BEGIN:VCALENDAR
VERSION:2.0
PRODID:-//CIEL - ECPv6.15.20//NONSGML v1.0//EN
CALSCALE:GREGORIAN
METHOD:PUBLISH
X-WR-CALNAME:CIEL
X-ORIGINAL-URL:https://ciel.asso.fr
X-WR-CALDESC:Évènements pour CIEL
REFRESH-INTERVAL;VALUE=DURATION:PT1H
X-Robots-Tag:noindex
X-PUBLISHED-TTL:PT1H
BEGIN:VTIMEZONE
TZID:Europe/Paris
BEGIN:DAYLIGHT
TZOFFSETFROM:+0100
TZOFFSETTO:+0200
TZNAME:CEST
DTSTART:20230326T010000
END:DAYLIGHT
BEGIN:STANDARD
TZOFFSETFROM:+0200
TZOFFSETTO:+0100
TZNAME:CET
DTSTART:20231029T010000
END:STANDARD
BEGIN:DAYLIGHT
TZOFFSETFROM:+0100
TZOFFSETTO:+0200
TZNAME:CEST
DTSTART:20240331T010000
END:DAYLIGHT
BEGIN:STANDARD
TZOFFSETFROM:+0200
TZOFFSETTO:+0100
TZNAME:CET
DTSTART:20241027T010000
END:STANDARD
BEGIN:DAYLIGHT
TZOFFSETFROM:+0100
TZOFFSETTO:+0200
TZNAME:CEST
DTSTART:20250330T010000
END:DAYLIGHT
BEGIN:STANDARD
TZOFFSETFROM:+0200
TZOFFSETTO:+0100
TZNAME:CET
DTSTART:20251026T010000
END:STANDARD
END:VTIMEZONE
BEGIN:VEVENT
DTSTART;VALUE=DATE:20241109
DTEND;VALUE=DATE:20241113
DTSTAMP:20260424T002802
CREATED:20240712T160228Z
LAST-MODIFIED:20251102T194927Z
UID:10093-1731117600-1731376799@ciel.asso.fr
SUMMARY:Mur indisponible
DESCRIPTION:Manifestation sportive exceptionnelle de badminton « SKYBAD »
URL:https://ciel.asso.fr/event/mur-indisponible-2/
CATEGORIES:Accès mur d'escalade Pierre de Coubertin
END:VEVENT
BEGIN:VEVENT
DTSTART;TZID=Europe/Paris:20241121T173000
DTEND;TZID=Europe/Paris:20241121T230000
DTSTAMP:20260424T002802
CREATED:20241121T163446Z
LAST-MODIFIED:20251102T194839Z
UID:10289-1732210200-1732230000@ciel.asso.fr
SUMMARY:Fermeture des équipements sportifs suite aux intempéries
DESCRIPTION:
URL:https://ciel.asso.fr/event/fermeture-des-equipements-sportifs-suite-aux-intemperies/
CATEGORIES:Accès mur d'escalade Pierre de Coubertin
END:VEVENT
BEGIN:VEVENT
DTSTART;TZID=Europe/Paris:20241129T190000
DTEND;TZID=Europe/Paris:20241130T190000
DTSTAMP:20260424T002802
CREATED:20240919T071830Z
LAST-MODIFIED:20251102T194828Z
UID:10203-1732906800-1732993200@ciel.asso.fr
SUMMARY:Téléthon 2024\, 24h de grimpe de Montigny
DESCRIPTION:
URL:https://ciel.asso.fr/event/telethon-2024-24h-de-grimpe-de-montigny/
LOCATION:gymnase pierre de coubertin\, 2 rue Charles Linné\, Montigny Le Bretonneux\, Yvelines\, 78180\, France
CATEGORIES:Evénements club
END:VEVENT
END:VCALENDAR