BEGIN:VCALENDAR
VERSION:2.0
PRODID:-//CIEL - ECPv6.15.20//NONSGML v1.0//EN
CALSCALE:GREGORIAN
METHOD:PUBLISH
X-WR-CALNAME:CIEL
X-ORIGINAL-URL:https://ciel.asso.fr
X-WR-CALDESC:Évènements pour CIEL
REFRESH-INTERVAL;VALUE=DURATION:PT1H
X-Robots-Tag:noindex
X-PUBLISHED-TTL:PT1H
BEGIN:VTIMEZONE
TZID:Europe/Paris
BEGIN:DAYLIGHT
TZOFFSETFROM:+0100
TZOFFSETTO:+0200
TZNAME:CEST
DTSTART:20230326T010000
END:DAYLIGHT
BEGIN:STANDARD
TZOFFSETFROM:+0200
TZOFFSETTO:+0100
TZNAME:CET
DTSTART:20231029T010000
END:STANDARD
BEGIN:DAYLIGHT
TZOFFSETFROM:+0100
TZOFFSETTO:+0200
TZNAME:CEST
DTSTART:20240331T010000
END:DAYLIGHT
BEGIN:STANDARD
TZOFFSETFROM:+0200
TZOFFSETTO:+0100
TZNAME:CET
DTSTART:20241027T010000
END:STANDARD
BEGIN:DAYLIGHT
TZOFFSETFROM:+0100
TZOFFSETTO:+0200
TZNAME:CEST
DTSTART:20250330T010000
END:DAYLIGHT
BEGIN:STANDARD
TZOFFSETFROM:+0200
TZOFFSETTO:+0100
TZNAME:CET
DTSTART:20251026T010000
END:STANDARD
END:VTIMEZONE
BEGIN:VEVENT
DTSTART;TZID=Europe/Paris:20240601T140000
DTEND;TZID=Europe/Paris:20240601T170000
DTSTAMP:20260424T074422
CREATED:20240526T175307Z
LAST-MODIFIED:20251102T194732Z
UID:9925-1717250400-1717261200@ciel.asso.fr
SUMMARY:Portes ouvertes CIEL
DESCRIPTION:
URL:https://ciel.asso.fr/event/portes-ouvertes-ciel/
CATEGORIES:Evénements club
END:VEVENT
BEGIN:VEVENT
DTSTART;TZID=Europe/Paris:20240622T200000
DTEND;TZID=Europe/Paris:20240623T003000
DTSTAMP:20260424T074422
CREATED:20240519T150947Z
LAST-MODIFIED:20251102T194728Z
UID:9870-1719086400-1719102600@ciel.asso.fr
SUMMARY:Fête du club saison 2023-2024
DESCRIPTION:
URL:https://ciel.asso.fr/event/fete-du-club-saison-2023-2024/
LOCATION:Roc et Résine\, 3 Rue des Alouettes\, Thiais\, 94320\, France
CATEGORIES:Evénements club
END:VEVENT
BEGIN:VEVENT
DTSTART;VALUE=DATE:20240629
DTEND;VALUE=DATE:20240820
DTSTAMP:20260424T074422
CREATED:20240620T160533Z
LAST-MODIFIED:20251102T194717Z
UID:10007-1719626400-1724032799@ciel.asso.fr
SUMMARY:Fermeture du mur pour l'été
DESCRIPTION:Restez informé des possibilités de réouverture à partir du 19 août
URL:https://ciel.asso.fr/event/fermeture-du-mur-pour-lete/
CATEGORIES:Accès mur d'escalade Pierre de Coubertin
END:VEVENT
END:VCALENDAR