BEGIN:VCALENDAR
VERSION:2.0
PRODID:-//CIEL - ECPv6.15.20//NONSGML v1.0//EN
CALSCALE:GREGORIAN
METHOD:PUBLISH
X-WR-CALNAME:CIEL
X-ORIGINAL-URL:https://ciel.asso.fr
X-WR-CALDESC:Évènements pour CIEL
REFRESH-INTERVAL;VALUE=DURATION:PT1H
X-Robots-Tag:noindex
X-PUBLISHED-TTL:PT1H
BEGIN:VTIMEZONE
TZID:Europe/Paris
BEGIN:DAYLIGHT
TZOFFSETFROM:+0100
TZOFFSETTO:+0200
TZNAME:CEST
DTSTART:20220327T010000
END:DAYLIGHT
BEGIN:STANDARD
TZOFFSETFROM:+0200
TZOFFSETTO:+0100
TZNAME:CET
DTSTART:20221030T010000
END:STANDARD
BEGIN:DAYLIGHT
TZOFFSETFROM:+0100
TZOFFSETTO:+0200
TZNAME:CEST
DTSTART:20230326T010000
END:DAYLIGHT
BEGIN:STANDARD
TZOFFSETFROM:+0200
TZOFFSETTO:+0100
TZNAME:CET
DTSTART:20231029T010000
END:STANDARD
BEGIN:DAYLIGHT
TZOFFSETFROM:+0100
TZOFFSETTO:+0200
TZNAME:CEST
DTSTART:20240331T010000
END:DAYLIGHT
BEGIN:STANDARD
TZOFFSETFROM:+0200
TZOFFSETTO:+0100
TZNAME:CET
DTSTART:20241027T010000
END:STANDARD
END:VTIMEZONE
BEGIN:VEVENT
DTSTART;TZID=Europe/Paris:20230416T083000
DTEND;TZID=Europe/Paris:20230416T170000
DTSTAMP:20260425T041717
CREATED:20230405T165756Z
LAST-MODIFIED:20251102T194519Z
UID:8945-1681633800-1681664400@ciel.asso.fr
SUMMARY:Sortie grimpeur autonome Climb Up
DESCRIPTION:Inscription au tableau du mur
URL:https://ciel.asso.fr/event/sortie-grimpeur-autonome-climb-up/
CATEGORIES:Evénements club
END:VEVENT
END:VCALENDAR