BEGIN:VCALENDAR
VERSION:2.0
PRODID:-//CIEL - ECPv6.15.20//NONSGML v1.0//EN
CALSCALE:GREGORIAN
METHOD:PUBLISH
X-ORIGINAL-URL:https://ciel.asso.fr
X-WR-CALDESC:Évènements pour CIEL
REFRESH-INTERVAL;VALUE=DURATION:PT1H
X-Robots-Tag:noindex
X-PUBLISHED-TTL:PT1H
BEGIN:VTIMEZONE
TZID:Europe/Paris
BEGIN:DAYLIGHT
TZOFFSETFROM:+0100
TZOFFSETTO:+0200
TZNAME:CEST
DTSTART:20230326T010000
END:DAYLIGHT
BEGIN:STANDARD
TZOFFSETFROM:+0200
TZOFFSETTO:+0100
TZNAME:CET
DTSTART:20231029T010000
END:STANDARD
BEGIN:DAYLIGHT
TZOFFSETFROM:+0100
TZOFFSETTO:+0200
TZNAME:CEST
DTSTART:20240331T010000
END:DAYLIGHT
BEGIN:STANDARD
TZOFFSETFROM:+0200
TZOFFSETTO:+0100
TZNAME:CET
DTSTART:20241027T010000
END:STANDARD
BEGIN:DAYLIGHT
TZOFFSETFROM:+0100
TZOFFSETTO:+0200
TZNAME:CEST
DTSTART:20250330T010000
END:DAYLIGHT
BEGIN:STANDARD
TZOFFSETFROM:+0200
TZOFFSETTO:+0100
TZNAME:CET
DTSTART:20251026T010000
END:STANDARD
END:VTIMEZONE
BEGIN:VEVENT
DTSTART;VALUE=DATE:20240408
DTEND;VALUE=DATE:20240423
DTSTAMP:20260424T120655
CREATED:20240404T133721Z
LAST-MODIFIED:20251102T195151Z
UID:9743-1712541600-1713751199@ciel.asso.fr
SUMMARY:Horaire des vacances de printemps
DESCRIPTION:Les horaires demandées sont de 18H00 à 22H00 en fonction de la présence d’un responsable de créneau.
URL:https://ciel.asso.fr/event/horaire-des-vacances-de-printemps/
CATEGORIES:Accès mur d'escalade Pierre de Coubertin
END:VEVENT
END:VCALENDAR