BEGIN:VCALENDAR
VERSION:2.0
PRODID:-//CIEL - ECPv6.15.20//NONSGML v1.0//EN
CALSCALE:GREGORIAN
METHOD:PUBLISH
X-ORIGINAL-URL:https://ciel.asso.fr
X-WR-CALDESC:Évènements pour CIEL
REFRESH-INTERVAL;VALUE=DURATION:PT1H
X-Robots-Tag:noindex
X-PUBLISHED-TTL:PT1H
BEGIN:VTIMEZONE
TZID:Europe/Paris
BEGIN:DAYLIGHT
TZOFFSETFROM:+0100
TZOFFSETTO:+0200
TZNAME:CEST
DTSTART:20220327T010000
END:DAYLIGHT
BEGIN:STANDARD
TZOFFSETFROM:+0200
TZOFFSETTO:+0100
TZNAME:CET
DTSTART:20221030T010000
END:STANDARD
BEGIN:DAYLIGHT
TZOFFSETFROM:+0100
TZOFFSETTO:+0200
TZNAME:CEST
DTSTART:20230326T010000
END:DAYLIGHT
BEGIN:STANDARD
TZOFFSETFROM:+0200
TZOFFSETTO:+0100
TZNAME:CET
DTSTART:20231029T010000
END:STANDARD
BEGIN:DAYLIGHT
TZOFFSETFROM:+0100
TZOFFSETTO:+0200
TZNAME:CEST
DTSTART:20240331T010000
END:DAYLIGHT
BEGIN:STANDARD
TZOFFSETFROM:+0200
TZOFFSETTO:+0100
TZNAME:CET
DTSTART:20241027T010000
END:STANDARD
END:VTIMEZONE
BEGIN:VEVENT
DTSTART;TZID=Europe/Paris:20231228T101500
DTEND;TZID=Europe/Paris:20231228T170000
DTSTAMP:20260424T180939
CREATED:20231218T214115Z
LAST-MODIFIED:20251102T195114Z
UID:9571-1703758500-1703782800@ciel.asso.fr
SUMMARY:Sortie grimpeurs autonomes Roc & Résine
DESCRIPTION:RDV : 10h15 sur le parking du gymnase P. de Coubertin\nRetour: vers 17h
URL:https://ciel.asso.fr/event/sortie-grimpeurs-autonomes-roc-resine/
CATEGORIES:Evénements club
END:VEVENT
END:VCALENDAR